Workbook

Sheet Facturas
A1: Control de cobros a obras sociales
A2: Cargá una fila por factura. Las columnas grises se calculan solas: no las toques.
A4: Fecha factura | B4: Obra social | C4: Paciente | D4: Nº de factura | E4: Importe facturado | F4: Días de pago | G4: Pago esperado | H4: Cobrado | I4: Débitos | J4: Saldo | K4: Estado
A5: 46213 | B5: OSDE | C5: Pérez, Juan | D5: 0001-00000125 | E5: 199992 | F5: 60 | G5: =IF(A5="","",A5+F5) | H5: 199992 | I5: 0 | J5: =IF(E5="","",E5-N(H5)-N(I5)) | K5: =IF(E5="","",IF(J5<=0,"Cobrada",IF(AND(H5>0,J5>0),IF(G5<TODAY(),"Vencida (parcial)","Parcial"),IF(G5<TODAY(),"VENCIDA","Pendiente"))))
A6: 46218 | B6: Swiss Medical | C6: Fernández, María | D6: 0001-00000126 | E6: 83330 | F6: 45 | G6: =IF(A6="","",A6+F6) | H6: 0 | I6: 0 | J6: =IF(E6="","",E6-N(H6)-N(I6)) | K6: =IF(E6="","",IF(J6<=0,"Cobrada",IF(AND(H6>0,J6>0),IF(G6<TODAY(),"Vencida (parcial)","Parcial"),IF(G6<TODAY(),"VENCIDA","Pendiente"))))
A7: 46268 | B7: IOMA | C7: López, Carlos | D7: 0001-00000131 | E7: 66664 | F7: 90 | G7: =IF(A7="","",A7+F7) | H7: 30000 | I7: 0 | J7: =IF(E7="","",E7-N(H7)-N(I7)) | K7: =IF(E7="","",IF(J7<=0,"Cobrada",IF(AND(H7>0,J7>0),IF(G7<TODAY(),"Vencida (parcial)","Parcial"),IF(G7<TODAY(),"VENCIDA","Pendiente"))))
G8: =IF(A8="","",A8+F8) | J8: =IF(E8="","",E8-N(H8)-N(I8)) | K8: =IF(E8="","",IF(J8<=0,"Cobrada",IF(AND(H8>0,J8>0),IF(G8<TODAY(),"Vencida (parcial)","Parcial"),IF(G8<TODAY(),"VENCIDA","Pendiente"))))
G9: =IF(A9="","",A9+F9) | J9: =IF(E9="","",E9-N(H9)-N(I9)) | K9: =IF(E9="","",IF(J9<=0,"Cobrada",IF(AND(H9>0,J9>0),IF(G9<TODAY(),"Vencida (parcial)","Parcial"),IF(G9<TODAY(),"VENCIDA","Pendiente"))))
G10: =IF(A10="","",A10+F10) | J10: =IF(E10="","",E10-N(H10)-N(I10)) | K10: =IF(E10="","",IF(J10<=0,"Cobrada",IF(AND(H10>0,J10>0),IF(G10<TODAY(),"Vencida (parcial)","Parcial"),IF(G10<TODAY(),"VENCIDA","Pendiente"))))
G11: =IF(A11="","",A11+F11) | J11: =IF(E11="","",E11-N(H11)-N(I11)) | K11: =IF(E11="","",IF(J11<=0,"Cobrada",IF(AND(H11>0,J11>0),IF(G11<TODAY(),"Vencida (parcial)","Parcial"),IF(G11<TODAY(),"VENCIDA","Pendiente"))))
G12: =IF(A12="","",A12+F12) | J12: =IF(E12="","",E12-N(H12)-N(I12)) | K12: =IF(E12="","",IF(J12<=0,"Cobrada",IF(AND(H12>0,J12>0),IF(G12<TODAY(),"Vencida (parcial)","Parcial"),IF(G12<TODAY(),"VENCIDA","Pendiente"))))
G13: =IF(A13="","",A13+F13) | J13: =IF(E13="","",E13-N(H13)-N(I13)) | K13: =IF(E13="","",IF(J13<=0,"Cobrada",IF(AND(H13>0,J13>0),IF(G13<TODAY(),"Vencida (parcial)","Parcial"),IF(G13<TODAY(),"VENCIDA","Pendiente"))))
G14: =IF(A14="","",A14+F14) | J14: =IF(E14="","",E14-N(H14)-N(I14)) | K14: =IF(E14="","",IF(J14<=0,"Cobrada",IF(AND(H14>0,J14>0),IF(G14<TODAY(),"Vencida (parcial)","Parcial"),IF(G14<TODAY(),"VENCIDA","Pendiente"))))
G15: =IF(A15="","",A15+F15) | J15: =IF(E15="","",E15-N(H15)-N(I15)) | K15: =IF(E15="","",IF(J15<=0,"Cobrada",IF(AND(H15>0,J15>0),IF(G15<TODAY(),"Vencida (parcial)","Parcial"),IF(G15<TODAY(),"VENCIDA","Pendiente"))))
G16: =IF(A16="","",A16+F16) | J16: =IF(E16="","",E16-N(H16)-N(I16)) | K16: =IF(E16="","",IF(J16<=0,"Cobrada",IF(AND(H16>0,J16>0),IF(G16<TODAY(),"Vencida (parcial)","Parcial"),IF(G16<TODAY(),"VENCIDA","Pendiente"))))
G17: =IF(A17="","",A17+F17) | J17: =IF(E17="","",E17-N(H17)-N(I17)) | K17: =IF(E17="","",IF(J17<=0,"Cobrada",IF(AND(H17>0,J17>0),IF(G17<TODAY(),"Vencida (parcial)","Parcial"),IF(G17<TODAY(),"VENCIDA","Pendiente"))))
G18: =IF(A18="","",A18+F18) | J18: =IF(E18="","",E18-N(H18)-N(I18)) | K18: =IF(E18="","",IF(J18<=0,"Cobrada",IF(AND(H18>0,J18>0),IF(G18<TODAY(),"Vencida (parcial)","Parcial"),IF(G18<TODAY(),"VENCIDA","Pendiente"))))
G19: =IF(A19="","",A19+F19) | J19: =IF(E19="","",E19-N(H19)-N(I19)) | K19: =IF(E19="","",IF(J19<=0,"Cobrada",IF(AND(H19>0,J19>0),IF(G19<TODAY(),"Vencida (parcial)","Parcial"),IF(G19<TODAY(),"VENCIDA","Pendiente"))))
... G204: =IF(A204="","",A204+F204) | J204: =IF(E204="","",E204-N(H204)-N(I204)) | K204: =IF(E204="","",IF(J204<=0,"Cobrada",IF(AND(H204>0,J204>0),IF(G204<TODAY(),"Vencida (parcial)","Parcial"),IF(G204<TODAY(),"VENCIDA","Pendiente"))))

Sheet Resumen
A1: Resumen
A2: Se calcula solo con lo que cargás en la hoja Facturas.
A4: Facturado | C4: Cuánto te debe cada obra social
A5: =SUM(Facturas!E5:E204) | C5: Obra social | D5: Te debe
A6: Cobrado | C6: =IF(ObrasSociales!A2="","",ObrasSociales!A2) | D6: =IF(C6="","",SUMIF(Facturas!B$5:B$204,C6,Facturas!J$5:J$204))
A7: =SUM(Facturas!H5:H204) | C7: =IF(ObrasSociales!A3="","",ObrasSociales!A3) | D7: =IF(C7="","",SUMIF(Facturas!B$5:B$204,C7,Facturas!J$5:J$204))
A8: Débitos | C8: =IF(ObrasSociales!A4="","",ObrasSociales!A4) | D8: =IF(C8="","",SUMIF(Facturas!B$5:B$204,C8,Facturas!J$5:J$204))
A9: =SUM(Facturas!I5:I204) | C9: =IF(ObrasSociales!A5="","",ObrasSociales!A5) | D9: =IF(C9="","",SUMIF(Facturas!B$5:B$204,C9,Facturas!J$5:J$204))
A10: Te deben | C10: =IF(ObrasSociales!A6="","",ObrasSociales!A6) | D10: =IF(C10="","",SUMIF(Facturas!B$5:B$204,C10,Facturas!J$5:J$204))
A11: =SUM(Facturas!J5:J204) | C11: =IF(ObrasSociales!A7="","",ObrasSociales!A7) | D11: =IF(C11="","",SUMIF(Facturas!B$5:B$204,C11,Facturas!J$5:J$204))
A12: Vencido | C12: =IF(ObrasSociales!A8="","",ObrasSociales!A8) | D12: =IF(C12="","",SUMIF(Facturas!B$5:B$204,C12,Facturas!J$5:J$204))
A13: =SUMIF(Facturas!K5:K204,"VENCIDA",Facturas!J5:J204)+SUMIF(Facturas!K5:K204,"Vencida (parcial)",Facturas!J5:J204) | C13: =IF(ObrasSociales!A9="","",ObrasSociales!A9) | D13: =IF(C13="","",SUMIF(Facturas!B$5:B$204,C13,Facturas!J$5:J$204))
C14: =IF(ObrasSociales!A10="","",ObrasSociales!A10) | D14: =IF(C14="","",SUMIF(Facturas!B$5:B$204,C14,Facturas!J$5:J$204))
C15: =IF(ObrasSociales!A11="","",ObrasSociales!A11) | D15: =IF(C15="","",SUMIF(Facturas!B$5:B$204,C15,Facturas!J$5:J$204))
C16: =IF(ObrasSociales!A12="","",ObrasSociales!A12) | D16: =IF(C16="","",SUMIF(Facturas!B$5:B$204,C16,Facturas!J$5:J$204))
C17: =IF(ObrasSociales!A13="","",ObrasSociales!A13) | D17: =IF(C17="","",SUMIF(Facturas!B$5:B$204,C17,Facturas!J$5:J$204))
C18: =IF(ObrasSociales!A14="","",ObrasSociales!A14) | D18: =IF(C18="","",SUMIF(Facturas!B$5:B$204,C18,Facturas!J$5:J$204))
C19: =IF(ObrasSociales!A15="","",ObrasSociales!A15) | D19: =IF(C19="","",SUMIF(Facturas!B$5:B$204,C19,Facturas!J$5:J$204))
C20: =IF(ObrasSociales!A16="","",ObrasSociales!A16) | D20: =IF(C20="","",SUMIF(Facturas!B$5:B$204,C20,Facturas!J$5:J$204))
C21: =IF(ObrasSociales!A17="","",ObrasSociales!A17) | D21: =IF(C21="","",SUMIF(Facturas!B$5:B$204,C21,Facturas!J$5:J$204))
C22: =IF(ObrasSociales!A18="","",ObrasSociales!A18) | D22: =IF(C22="","",SUMIF(Facturas!B$5:B$204,C22,Facturas!J$5:J$204))
C23: =IF(ObrasSociales!A19="","",ObrasSociales!A19) | D23: =IF(C23="","",SUMIF(Facturas!B$5:B$204,C23,Facturas!J$5:J$204))
C24: =IF(ObrasSociales!A20="","",ObrasSociales!A20) | D24: =IF(C24="","",SUMIF(Facturas!B$5:B$204,C24,Facturas!J$5:J$204))
C25: =IF(ObrasSociales!A21="","",ObrasSociales!A21) | D25: =IF(C25="","",SUMIF(Facturas!B$5:B$204,C25,Facturas!J$5:J$204))

Sheet ObrasSociales
A1: Obra social | B1: Días que tarda en pagar (tu experiencia)
A2: OSDE | B2: 60 | D2: Agregá o cambiá las tuyas. Aparecen en la lista desplegable de la hoja Facturas.
A3: Swiss Medical | B3: 45
A4: Galeno | B4: 60
A5: Medifé | B5: 60
A6: IOMA | B6: 90
A7: PAMI | B7: 60
A8: OSDEPYM | B8: 60
A9: Federada Salud | B9: 60

Sheet Cómo se usa
A2: Control de cobros a obras sociales
A3: Plantilla gratuita de saldamos.com
A5: 1. En la hoja «ObrasSociales» poné las tuyas y a cuántos días te suele pagar cada una.
A6: 2. Cada vez que emitís una factura, cargá una fila en «Facturas»: fecha, obra social, paciente, número e importe.
A7: 3. Cuando cobres, escribí cuánto te pagaron en «Cobrado». Si te descontaron algo, ponelo en «Débitos».
A8: 4. Las columnas grises se calculan solas: pago esperado, saldo y estado (Pendiente / Parcial / VENCIDA / Cobrada).
A9: 5. En «Resumen» ves cuánto facturaste, cuánto cobraste, cuánto te deben y cuánto está vencido.
A11: Un consejo: revisala una vez por semana, siempre el mismo día. Lo que no se mira, no se cobra.
A13: ¿Se te hace larga de mantener? Saldamos hace esto solo: arrastrás el PDF de la factura de AFIP y subís
A14: el extracto del banco, y cruza cada pago con su factura. 14 días gratis en saldamos.com
